Workbook
Name MESES: Hoja1!$B$3:$D$15

Sheet Configuración
B2: NUEVOS PARAMETROS - RENTA DE QUINTA CATEGORÍA 2022
C6: Valor de la UIT | D6: 4600
C8: RENTA IMPONIBLE DE TRABAJO | H8: TASA
C9: Hasta | D9: 5 | E9: UIT | F9: ó | G9: =+D9*$D$6 -> 23000 | H9: 0.08
C10: Por el Exceso de | D10: 5 | E10: UIT | F10: ó | G10: =+D10*$D$6 -> 23000 | H10: 0.14
C11: y hasta | D11: 20 | E11: UIT | F11: ó | G11: =+D11*$D$6 -> 92000
C12: Por el Exceso de | D12: 20 | E12: UIT | F12: ó | G12: =+D12*$D$6 -> 92000 | H12: 0.17
C13: y hasta | D13: 35 | E13: UIT | F13: ó | G13: =+D13*$D$6 -> 161000
C14: Por el Exceso de | D14: 35 | E14: UIT | F14: ó | G14: =+D14*$D$6 -> 161000 | H14: 0.2
C15: y hasta | D15: 45 | E15: UIT | F15: ó | G15: =+D15*$D$6 -> 207000
C16: Por el Exceso de | D16: 45 | E16: UIT | F16: ó | G16: =+D16*$D$6 -> 207000 | H16: 0.3

Sheet Cálculo Mensual
B2: CÁLCULO DEL IMPUESTO A LA RENTA DE QUINTA CATEGORIA 2022- MENSUAL
C4: Retención Quinta Mensual | F4: Enero
C6: Remueración Mensual (Actual) | F6: 3500
C7: Asignación Familiar | F7: 0
C8: Otros
F9: =SUM(F6:F8) -> 3500
C10: Remuneración Mes | F10: S/.
C11: Remuneración Mes | F11: 3500
C12: Asignación Familiar | F12: =+F7 -> 0
C13: Horas Extras | F13: 0
C14: Otros
C15: Remuneraciones Proyectadas | E15: =IF(F4="Enero",11,IF(F4="Febrero",10,IF(F4="Marzo",9,IF(F4="Abril",8,IF(F4="Mayo",7,IF(F4="Junio",6,IF(F4="Julio",5,IF(F4="Agosto",4,IF(F4="Septiembre",3,IF(F4="Octubre",2,IF(F4="Noviembre",1,0))))))))))) -> 11 | F15: =+E15*F9 -> 38500
C16: Gratificación Julio | F16: 3500
C17: Gratificación Diciembre | F17: 3500
C18: Bonificación Extraordinaria | F18: 630
C19: Otros
C21: Remuneraciones Percibidas | F21: S/.
C22: Enero | F22: 0
C23: Febrero | F23: 0
C24: Marzo
C25: Abril
C26: Mayo
C27: Junio
C28: Julio
C29: Gratificación Julio
C30: Agosto
C31: Setiembre
C32: Octubre
C33: Noviembre
C36: Renta Bruta | F36: =SUM(F11:F19)+SUM(F22:F33) -> 49630
C37: Deducción de 7 UIT (UIT = S/ 4,600) | F37: =IF('Configuración'!D6*7>'Cálculo Mensual'!F36,'Cálculo Mensual'!F36,'Configuración'!D6*7) -> 32200
C38: Deducción de 3 UIT (UIT = S/ 4,600) | F38: 0
C39: Total Renta Quinta Categoría | E39: ► | F39: =+F36-F37 -> 17430
C41: Renta Imponible de Trabajo | D41: Tasa | E41: Tramos
C42: =+'Configuración'!C9&" " &'Configuración'!D9&" "&'Configuración'!E9&" "&'Configuración'!F9&" S/. "&TEXT('Configuración'!G9,"#,000.00") -> Hasta 5 UIT ó S/. 23.000,00 | D42: =+'Configuración'!H9 -> 0.08 | E42: =IF(F39>'Configuración'!G9,'Configuración'!G9,'Cálculo Mensual'!F39) -> 17430 | F42: =+D42*E42 -> 1394.4
C43: =+'Configuración'!C10&" "&'Configuración'!D10&" "&'Configuración'!E10&" "&'Configuración'!F10&" S/. "&TEXT('Configuración'!G10,"#,000.00")&" " &'Configuración'!C11&" "&'Configuración'!D11&" "&'Configuración'!E11&" "&'Configuración'!F11&" S/. "&TEXT('Configuración'!G11,"#,000.00") -> Por el Exceso de 5 UIT ó S/. 23.000,00 y hasta 20 UIT ó S/. 92.000,00 | D43: =+'Configuración'!H10 -> 0.14 | E43: =IF(AND(($F$39)>'Configuración'!G10,($F$39)<='Configuración'!G11)=TRUE,$F$39-SUM($E$42:E42),IF($F$39>'Configuración'!G11,'Configuración'!G11-SUM($E$42:E42),0)) -> 0 | F43: =+D43*E43 -> 0
C44: =+'Configuración'!C12&" "&'Configuración'!D12&" "&'Configuración'!E12&" "&'Configuración'!F12&" S/. "&TEXT('Configuración'!G12,"#,000.00")&" " &'Configuración'!C13&" "&'Configuración'!D13&" "&'Configuración'!E13&" "&'Configuración'!F13&" S/. "&TEXT('Configuración'!G13,"#,000.00") -> Por el Exceso de 20 UIT ó S/. 92.000,00 y hasta 35 UIT ó S/. 161.000,00 | D44: =+'Configuración'!H12 -> 0.17 | E44: =IF(AND(($F$39)>'Configuración'!G12,($F$39)<='Configuración'!G13)=TRUE,$F$39-SUM($E$42:E43),IF($F$39>'Configuración'!G13,'Configuración'!G13-SUM($E$42:E43),0)) -> 0 | F44: =+D44*E44 -> 0
C45: =+'Configuración'!C14&" "&'Configuración'!D14&" "&'Configuración'!E14&" "&'Configuración'!F14&" S/. "&TEXT('Configuración'!G14,"#,000.00")&" " &'Configuración'!C15&" "&'Configuración'!D15&" "&'Configuración'!E15&" "&'Configuración'!F15&" S/. "&TEXT('Configuración'!G15,"#,000.00") -> Por el Exceso de 35 UIT ó S/. 161.000,00 y hasta 45 UIT ó S/. 207.000,00 | D45: =+'Configuración'!H14 -> 0.2 | E45: =IF(AND(($F$39)>'Configuración'!G14,($F$39)<='Configuración'!G15)=TRUE,$F$39-SUM($E$42:E44),IF($F$39>'Configuración'!G15,'Configuración'!G15-SUM($E$42:E44),0)) -> 0 | F45: =+D45*E45 -> 0
C46: =+'Configuración'!C16&" "&'Configuración'!D16&" "&'Configuración'!E16&" "&'Configuración'!F16&" S/. "&TEXT('Configuración'!G16,"#,000.00") -> Por el Exceso de 45 UIT ó S/. 207.000,00 | D46: =+'Configuración'!H16 -> 0.3 | E46: =IF($F$39>'Configuración'!G16,'Cálculo Mensual'!$F$39-SUM('Cálculo Mensual'!E42:E45),0) -> 0 | F46: =+D46*E46 -> 0
C48: Impuesto a la renta anual | F48: =SUM(F42:F47) -> 1394.4
C52: Rentenciones Anteriores | F52: S/.
C53: Enero
C54: Febrero
C55: Marzo
C56: Abril
C57: Mayo
C58: Junio
C59: Julio
C60: Agosto
C61: Septiembre
C62: Octubre
C63: Noviembre
C67: Renta Imponible por Retener | F67: =+F48-SUM(F53:F63) -> 1394.4
C69: Meses Pendientes por Retener | E69: =IF(F4="Enero",12,IF(F4="Febrero",11,IF(F4="Marzo",10,IF(F4="Abril",9,IF(F4="Mayo",8,IF(F4="Junio",7,IF(F4="Julio",6,IF(F4="Agosto",5,IF(F4="Septiembre",4,IF(F4="Octubre",3,IF(F4="Noviembre",2,IF(F4="Diciembre",1,0)))))))))))) -> 12
C71: Retención Mensual | F71: =+F67/E69 -> 116.2

Sheet Hoja1
B3: Meses | C3: Meses Proyectados | D3: Meses Retención
B4: Enero | C4: 11 | D4: 12
B5: Febrero | C5: 10 | D5: 11
B6: Marzo | C6: 9 | D6: 10
B7: Abril | C7: 8 | D7: 9
B8: Mayo | C8: 7 | D8: 8
B9: Junio | C9: 6 | D9: 7
B10: Julio | C10: 5 | D10: 6
B11: Agosto | C11: 4 | D11: 5
B12: Septiembre | C12: 3 | D12: 4
B13: Octubre | C13: 2 | D13: 3
B14: Noviembre | C14: 1 | D14: 2
B15: Diciembre | C15: 0 | D15: 1
